Workbook
Name オプティマイザ名: #REF!
Name パワコン名: #REF!
Name モジュール名: #REF!
Name 都市名: #REF!

Sheet 初期条件
C2: =年間システム発電量!C6 -> 大館市蟹沢第一発電所
C3: 内部収益率（IRR)税前 | D3: =事業収支!D61 -> 0.03208227 | E3: 自己資金投資利回り（税引き前） | G3: =事業収支!D60 -> 0.22564167 | J3: 投資元本回収年数 | K3: =事業収支!D63 -> 19 | M3: PCS | N3: その他
C4: 投下全資本回収年数 | D4: =事業収支!D63 -> 19 | E4: 売電コスト | G4: =事業収支!D64 -> 7.817986
C7: 土地の面積 | D7: 22892 | E7: パネルの総KW数 | G7: =年間システム発電量!D18 -> 2002 | H7: パワコンがソーラーエッジの場合、この数値の1.1倍になります | J7: 架台の角度 | K7: 30 | L7: PCS | M7: =F23+F24+F25+F26 -> 12246037
C8: 売電単価(税前） | D8: 18 | E8: パネル1kW当りの 年間の平均発電量 | G8: =年間システム発電量!P16/G7 -> 1146.5888 | J8: パネル1枚当りの容量 | K8: =年間システム発電量!D17 -> 650 | L8: その他 | M8: =F27+F28+F29+F30+F31+F32 -> 50747860
J9: 電力会社が求める力率 | K9: 1 | L9: 工事 | M9: =F34+F38+F42+F46+F47+F55 -> 148282762
B10: 初期投資設備費用 | D10: 自己資金比率➡ | F10: =D15 -> 0.3 | Q10: 24
C11: 初期投資前提条件 | E11: 単位 | G11: 備考 | H11: 請求番号 | Q11: 0.25
B12: 諸条件 | C12: 太陽光パネル導入規模 | D12: =G7 -> 2002 | E12: kW | J12: パネルの枚数 | K12: =年間システム発電量!D19 -> 3080 | Q12: =Q10*(1-Q11) -> 18
C13: パネル1kW当りの年間平均発電量 | D13: =G8 -> 1146.5888 | E13: kWh/kW | G13: =IF(G23="SolarEdge SE33.3K","パワコンがソーラーエッジの場合1.1倍","") | J13: パワコンの台数 | K13: 24 | Q13: 558579 | R13: kwh
C14: 毎年のPV効率低下率 | D14: 0.005 | J14: Solaredge33.3kwの定格ｋVA | K14: 33.3 | Q14: =Q10-Q12 -> 6
C15: 出資比率（一般出資） | D15: 0.3 | F15: =INT(D15*F64) -> 97599317 | J15: Solaredge33.3kwの最適過積載率 | K15: 1.3 | Q15: =Q13*Q14 -> 3351474
C16: 出資比率（借入） | D16: =1-D15 -> 0.7 | F16: =F64-F15 -> 2.2773174e+08 | Q16: 17 | R16: 年
C17: 固定価格買取期間 | D17: 25 | E17: 年 | J17: 卸会社マージン率 | Q17: =Q15*Q16 -> 56975058
C18: 返済のスタイル | D18: 2 | G18: 元利均等方式 : 1 元本均等方式 : 2 | J18: 0
C19: 土地、屋根の賃借期間 | D19: =D17 -> 25 | E19: 年
B20: 設備費用 | C20: 項目 | D20: 初期投資単価 | F20: 初期投資総額 | J20: コスト単価 | K20: 数量 | L20: 単位 | M20: コスト総額 | N20: 利益 | P20: α＝ | Q20: 0.23
C21: プラントシステム設計費 | D21: =J21*(1+$J$18) -> 0 | E21: 円/一式 | F21: =D21*K21 -> 0 | J21: 0 | K21: 1 | L21: 式 | M21: =J21*K21 -> 0 | N21: =F21-M21 -> 0
C22: 太陽光パネル | D22: 35000 | E22: 円/kW | F22: =D22*K22 -> 70070000 | G22: JINKO Solar JKM585N-72HL4 | K22: =$D$12 -> 2002 | L22: kw | M22: =J22*K22 -> 0 | N22: =F22-M22 -> 70070000 | P22: 20000 | Q22: =(D22-P22)*G7 -> 30030000
C23: パワコン | D23: =IF(G23="SolarEdge SE33.3K",P23*(1+$Q$20),IF(G23="SUN2000-50KTL-NHM3",450000,0)) -> 450000 | E23: 円/台 | F23: =D23*K13 -> 10800000 | G23: SUN2000-50KTL-NHM3 | K23: =$D$12 -> 2002 | L23: 台 | M23: =J23*K23 -> 0 | N23: =F23-M23 -> 10800000 | P23: 235000 | Q23: =(D23-P23)*K13 -> 5160000
C24: オプティマイザー | D24: =IF(G23="SolarEdge SE33.3K",P24*(1+$Q$20),0) -> 0 | E24: 円/台 | F24: =IF(G23="SolarEdge SE33.3K",D24*(K12/2),0) -> 0 | G24: =IF(G23="SolarEdge SE33.3K","SolarEdge S1200（パネル2枚で１台）","不要") -> 不要 | K24: =$D$12 -> 2002 | L24: kw | M24: =J24*K24 -> 0 | N24: =F24-M24 -> 0 | P24: 10100 | Q24: =(D24-P24)*$K$12/2 -> -15554000
C25: オプティマイザー取り付け金具 | D25: 0 | E25: 円/セット | F25: =D25*K12/2 -> 0 | K25: =$D$12 -> 2002 | L25: kw | M25: =J25*K25 -> 0 | N25: =F31-M25 -> 20020000 | P25: 330 | Q25: =(D25-P25)*K12/2 -> -508200
C26: パワコン20年間の保証料 | D26: =P26*(1+$Q$20) -> 60251.55 | E26: 円/台 | F26: =D26*K13 -> 1446037.2 | K26: =$D$12 -> 2002 | L26: kw | M26: =J26*K26 -> 0 | N26: =F32-M26 -> 29549520 | P26: 48985 | Q26: =(D26-P26)*K13 -> 270397.2
C27: 出力制御装置＆通信ルーター | D27: =P27*(1+$Q$20) -> 405900 | E27: 円/台 | F27: =D27*K27 -> 405900 | K27: 1 | L27: 台 | P27: 330000 | Q27: =D27-P27 -> 75900
C28: 専用保護継電器 | D28: =P28*(1+$Q$20) -> 393600 | E28: 円/台 | F28: =D28*K28 -> 393600 | G28: オムロン製 KP-PRRV-CPC | K28: 1 | L28: 台 | P28: 320000 | Q28: =D28-P28 -> 73600
C29: 地絡方向継電器 | D29: =P29*(1+$Q$20) -> 98400 | E29: 円/台 | F29: =D29*K29 -> 98400 | G29: オムロン製 VOC-1MS2-1ZPD | K29: 1 | L29: 台 | P29: 80000 | Q29: =D29-P29 -> 18400
C30: 三相エネルギーメーター | D30: =P30*(1+$Q$20) -> 280440 | E30: 円/台 | F30: =D30*K30 -> 280440 | G30: JANITZA UMG104 | K30: 1 | L30: 台 | P30: 228000 | Q30: =D30-P30 -> 52440
C31: キュービクル | D31: 10000 | E31: 円/kW | F31: =D31*K25 -> 20020000 | I31: /kw | K31: =M31/D12 -> 0 | L31: 小計 | M31: =SUM(M21:M30) -> 0 | N31: =SUM(N21:N30) -> 130439520 | P31: 16500 | Q31: =(D31-P31)*G7 -> -13013000
C32: 架台 | D32: =P32*(1+$Q$20) -> 14760 | E32: 円/kW | F32: =D32*K26 -> 29549520 | J32: =J20 -> コスト単価 | K32: =K20 -> 数量 | L32: =L20 -> 単位 | M32: =M20 -> コスト総額 | N32: =N20 -> 利益 | P32: 12000 | Q32: =(D32-P32)*G8 -> 3164585.1
C33: キュービクル基礎 | D33: 4000 | E33: 円/kW | F33: =D33*G7 -> 8008000 | K33: =$D$12 -> 2002 | L33: kw
C34: 梯子建設費 | D34: 0 | E34: 円/kW | F34: 0 | K34: =$D$12 -> 2002
K35: =$D$12 -> 2002
E36: 小計 | F36: =SUM(F21:F35) -> 1.410719e+08 | G36: =F36/D12 -> 70465.483 | K36: =$D$12 -> 2002
B37: 工事費 | C37: 項目 | D37: 単価 | E37: 単位 | F37: 初期投資総額
C38: 工事費 | D38: 60000 | E38: 円/kW | F38: =D38*K33 -> 120120000 | J38: 500000 | K38: 1 | L38: 式 | P38: 50000
C39: フェンス材料とフェンス工事代KW単価 | D39: 3000 | E39: 円/kW | F39: =D39*K34 -> 6006000
C40: 造成 | D40: 800 | E40: 円/㎡ | F40: =D40*D7 -> 18313600 | J40: 516000 | K40: 1 | L40: 式
C41: 伐採&伐根&敷地内集積 | D41: 400 | E41: 円/㎡ | F41: =D41*D7 -> 9156800 | J41: 437500 | K41: 1 | L41: 式
C42: 輸送費 | F42: 450000 | J42: 294500 | K42: 1 | L42: 式 | M42: 3１本分の請求を開道様より2018年1月31日請求を受ける。
J43: =125000 -> 125000 | K43: 1 | L43: 式
...

Sheet 年間システム発電量
B2: NEDO（経産省管轄 新エネルギー開発機構）が作成した MONSOLAR という日射量データベースが掲載している過去30年間の現場周辺の水平面の日射データを下記のエクセルファイルの7行目に記載
C3: 月平均斜面日射量 | D3: https://domessolar.infop.nedo.go.jp/appww/cgi-bin/monsola.cgi?m=60402468 | I3: kwh/㎡・日 | N3: MONSOLAR メッシュ番号： | Q3: 6040-2468
C4: 大館市における各月の平均気温 | D4: https://www.data.jma.go.jp/stats/etrn/view/nml_amd_ym.php?prec_no=32&block_no=0912&year=&month=&day=&view= | L4: 気象庁HPより
C6: 大館市蟹沢第一発電所 | D6: 1月 | E6: 2月 | F6: 3月 | G6: 4月 | H6: 5月 | I6: 6月 | J6: 7月 | K6: 8月 | L6: 9月 | M6: 10月 | N6: 11月 | O6: 12月 | P6: 計
B7: 1 | C7: 傾斜角30度での日射量 | D7: 1.91 | E7: 3.01 | F7: 3.85 | G7: 4.71 | H7: 5.06 | I7: 4.98 | J7: 4.5 | K7: 4.73 | L7: 4.15 | M7: 3.41 | N7: 2.23 | O7: 1.53 | P7: 3.67 | Q7: kwh/㎡・日
B8: 2 | C8: 各月の日数 | D8: 31 | E8: 28 | F8: 31 | G8: 30 | H8: 31 | I8: 30 | J8: 31 | K8: 31 | L8: 30 | M8: 31 | N8: 30 | O8: 31 | P8: =SUM(D8:O8) -> 365 | Q8: 日（数）
B9: 4 | C9: 月間平均気温 | D9: -2 | E9: -1.4 | F9: 2 | G9: 8.2 | H9: 14.4 | I9: 18.8 | J9: 22.5 | K9: 23.6 | L9: 19 | M9: 12 | N9: 5.7 | O9: 0.2 | P9: 10.2 | Q9: ℃
B10: 5 | C10: 月間合計日射量 | D10: =D7*D8 -> 59.21 | E10: =E7*E8 -> 84.28 | F10: =F7*F8 -> 119.35 | G10: =G7*G8 -> 141.3 | H10: =H7*H8 -> 156.86 | I10: =I7*I8 -> 149.4 | J10: =J7*J8 -> 139.5 | K10: =K7*K8 -> 146.63 | ... O10: =O7*O8 -> 47.43 | P10: =AVERAGE(D10:O10) -> 111.75583 | Q10: kwh/㎡・月
B11: 6 | C11: 加重平均太陽電池モジュール温度上昇（ΔT） | D11: 22 | E11: 22 | F11: 20 | G11: 18 | H11: 16 | I11: 14 | J11: 14 | K11: 16 | L11: 18 | M11: 20 | N11: 22 | O11: 22 | P11: =AVERAGE(D11:O11) -> 18.666667 | Q11: JISによる数値は18.4
B12: 7 | C12: 加重平均太陽電池モジュール温度 | D12: =D9+D11 -> 20 | E12: =E9+E11 -> 20.6 | F12: =F9+F11 -> 22 | G12: =G9+G11 -> 26.2 | H12: =H9+H11 -> 30.4 | I12: =I9+I11 -> 32.8 | J12: =J9+J11 -> 36.5 | K12: =K9+K11 -> 39.6 | ... O12: =O9+O11 -> 22.2 | P12: =AVERAGE(D12:O12) -> 28.916667 | Q12: ℃
B13: 8 | C13: 温度補正係数（KPT） | D13: =1+(D12-25)*$I$25 -> 1.0145 | E13: =1+(E12-25)*$I$25 -> 1.01276 | F13: =1+(F12-25)*$I$25 -> 1.0087 | G13: =1+(G12-25)*$I$25 -> 0.99652 | H13: =1+(H12-25)*$I$25 -> 0.98434 | I13: =1+(I12-25)*$I$25 -> 0.97738 | J13: =1+(J12-25)*$I$25 -> 0.96665 | K13: =1+(K12-25)*$I$25 -> 0.95766 | ... O13: =1+(O12-25)*$I$25 -> 1.00812
B14: 9 | C14: 月別総合設計係数 | D14: =$I$24*D13*(IF($D$21="Solar Edge",$M$19,$M$20)) -> 0.8391094 | E14: =$I$24*E13*(IF($D$21="Solar Edge",$M$19,$M$20)) -> 0.83767021 | F14: =$I$24*F13*(IF($D$21="Solar Edge",$M$19,$M$20)) -> 0.83431212 | G14: =$I$24*G13*(IF($D$21="Solar Edge",$M$19,$M$20)) -> 0.82423785 | H14: =$I$24*H13*(IF($D$21="Solar Edge",$M$19,$M$20)) -> 0.81416357 | I14: =$I$24*I13*(IF($D$21="Solar Edge",$M$19,$M$20)) -> 0.80840684 | J14: =$I$24*J13*(IF($D$21="Solar Edge",$M$19,$M$20)) -> 0.79953188 | K14: =$I$24*K13*(IF($D$21="Solar Edge",$M$19,$M$20)) -> 0.79209611 | ... O14: =$I$24*O13*(IF($D$21="Solar Edge",$M$19,$M$20)) -> 0.83383239
B15: 10 | C15: 月間システム推定発電量（ｋｗｈ） | D15: =$D$18*D10*D14 -> 99466.702 | E15: =$D$18*E10*E14 -> 141338.89 | F15: =$D$18*F10*F14 -> 199349.45 | G15: =$D$18*G10*G14 -> 233162.54 | H15: =$D$18*H10*H14 -> 255674.81 | I15: =$D$18*I10*I14 -> 241793.52 | J15: =$D$18*J10*J14 -> 223292.47 | K15: =$D$18*K10*K14 -> 232522.4 | ... O15: =$D$18*O10*O14 -> 79176.438 | P15: =SUM(D15:O15) -> 2186162.6 | Q15: kWh
N16: BDV補正 | O16: 0.05 | P16: =P15*(1+O16) -> 2295470.8 | Q16: kWh
C17: パネルのワット数 | D17: 650 | F17: JIS C8907の計算方法に基づく太陽光発電量の推計
C18: 直流最大出力（様式3 直流発電機） | D18: =D19*D17/1000 -> 2002 | F18: 【設置時の基本設計係数の算出】 | K18: PCS | L18: 変換効率 | M18: 発電量係数 | N18: 定格出力
C19: パネルの枚数 | D19: 3080 | F19: 日射量年変動補正係数 Kｈｄ） | I19: 0.97 | K19: Solar Edge | L19: 0.981 | M19: 1.1 | N19: 33.3
C20: 最大受電電力（様式2の5） | D20: 1200 | F20: 経時変化補正係数(Kpd) | I20: 0.95 | K20: HUAWEI | L20: 0.9844 | M20: 1 | N20: 50
C21: PCS（Solar Edgeは発電出力が1.1倍） | D21: HUAWEI | F21: アレイ回路補正係数(Kpa) | I21: 0.97
F22: アレ負荷整合補正計数(Kpm) | I22: 0.94
F23: パワコン 直流＝＞交流 変換効率 | I23: =IF(D21="Solar Edge",L19,L20) -> 0.9844
F24: 基本設計係数(K') | I24: =I19*I20*I21*I22*I23 -> 0.82711621
F25: メーカー入手の最大出力温度係数（αPmax) | I25: -0.0029
C28: ※ 11行目の「加重平均太陽電池モジュール温度上昇」の数値はChatGPTによって得られた一般的な裏面開放形の数値です。根拠や出典は不明で裏付けがあるわけではありません。しかし年間平均値が18.67で、JIS C8907で示された数値18.4に近い数値であり、「加重平均太陽電池モジュール温度」の」年間平均が24.4度（セル番号P12）で年間平均気温5.8度（セル番号P9）+18.4＝24.2とも近い数値になるのでこれを使っています。

Sheet 事業収支
AD1: 単位：円
B2: 予想損益計算書（25年間毎年の数字） | E2: 0年 | F2: 1 | G2: 2 | H2: 3 | I2: 4 | J2: 5 | K2: 6 | L2: 7 | M2: 8 | N2: 9 | O2: 10 | P2: 11 | Q2: 12 | R2: 13 | S2: 14 | T2: 15 | U2: 16 | V2: 17 | W2: 18 | X2: 19 | Y2: 20 | Z2: 21 | AA2: 22 | AB2: 23 | AC2: 24 | AD2: 25 | AE2: 計
B3: 初期投資 設置ＫＷ数--＞ | D3: =償却資産税の計算!C9 -> 2002
C4: マイソーラー設備購入費 | D4: =初期条件!F64 -> 3.2533106e+08 | E4: 自己資金投資額 | F4: =初期条件!F15 -> 97599317 | AE4: =SUM(D4:AD4) -> 4.2293038e+08
B5: 収入 | F5: =SUM(F6:F8) -> 41318474 | G5: =SUM(G6:G8) -> 41111881 | H5: =SUM(H6:H8) -> 40906322 | I5: =SUM(I6:I8) -> 40701790 | J5: =SUM(J6:J8) -> 40498281 | K5: =SUM(K6:K8) -> 40295790 | L5: =SUM(L6:L8) -> 40094311 | M5: =SUM(M6:M8) -> 39893839 | ... AD5: =SUM(AD6:AD8) -> 36635170 | AE5: =SUM(F5:AD5) -> 9.7329596e+08
C6: 売電売上 | F6: =F35 -> 41318474 | G6: =G35 -> 41111881 | H6: =H35 -> 40906322 | I6: =I35 -> 40701790 | J6: =J35 -> 40498281 | K6: =K35 -> 40295790 | L6: =L35 -> 40094311 | M6: =M35 -> 39893839 | ... AD6: =AD35 -> 36635170 | AE6: =SUM(F6:AD6) -> 9.7329596e+08
F7: =F36 -> 0 | G7: =G36 -> 0 | H7: =H36 -> 0 | I7: =I36 -> 0 | J7: =J36 -> 0 | K7: =K36 -> 0 | L7: =L36 -> 0 | M7: =M36 -> 0 | ... AD7: =AD36 -> 0 | AE7: =SUM(F7:AD7) -> 0
C8: グリーン電力証書の販売収入 | F8: =F37 -> 0 | G8: =G37 -> 0 | H8: =H37 -> 0 | I8: =I37 -> 0 | J8: =J37 -> 0 | K8: =K37 -> 0 | L8: =L37 -> 0 | M8: =M37 -> 0 | ... AD8: =AD37 -> 0 | AE8: =SUM(F8:AD8) -> 0
B9: 支出 | F9: =SUM(F10:F23)-F12 -> 33285934 | G9: =SUM(G10:G23)-G12 -> 31503458 | H9: =SUM(H10:H23)-H12 -> 30262205 | I9: =SUM(I10:I23)-I12 -> 29080979 | J9: =SUM(J10:J23)-J12 -> 27952158 | K9: =SUM(K10:K23)-K12 -> 26869086 | L9: =SUM(L10:L23)-L12 -> 25825952 | M9: =SUM(M10:M23)-M12 -> 24817684 | ... AD9: =SUM(AD10:AD23)-AD12 -> 3657796.4 | AE9: =SUM(F9:AD9) -> 4.7878155e+08
C10: 特別償却額 | F10: =初期条件!F64*初期条件!D84 -> 0 | AE10: =SUM(F10:AD10) -> 0
C11: 普通減価償却 | F11: =IF(初期条件!$D$84=100%,0,(初期条件!$F$36+初期条件!$F$44-$F$10)/初期条件!$D$85) -> 17359900 | G11: =IF(初期条件!$D$84=100%,0,(初期条件!$F$36+初期条件!$F$44-$F$10)/初期条件!$D$85) -> 17359900 | H11: =IF(初期条件!$D$84=100%,0,(初期条件!$F$36+初期条件!$F$44-$F$10)/初期条件!$D$85) -> 17359900 | I11: =IF(初期条件!$D$84=100%,0,(初期条件!$F$36+初期条件!$F$44-$F$10)/初期条件!$D$85) -> 17359900 | J11: =IF(初期条件!$D$84=100%,0,(初期条件!$F$36+初期条件!$F$44-$F$10)/初期条件!$D$85) -> 17359900 | K11: =IF(初期条件!$D$84=100%,0,(初期条件!$F$36+初期条件!$F$44-$F$10)/初期条件!$D$85) -> 17359900 | L11: =IF(初期条件!$D$84=100%,0,(初期条件!$F$36+初期条件!$F$44-$F$10)/初期条件!$D$85) -> 17359900 | M11: =IF(初期条件!$D$84=100%,0,(初期条件!$F$36+初期条件!$F$44-$F$10)/初期条件!$D$85) -> 17359900 | ... V11: =IF(初期条件!$D$84=100%,0,(初期条件!$F$36+初期条件!$F$44-$F$10)/初期条件!$D$85) -> 17359900 | W11: =IF(初期条件!$D$84=100%,0,IF(V12<=(初期条件!$F$64-$F$10)/初期条件!$D$85,V12,(初期条件!$F$64-$F$10)/初期条件!$D$85)) -> -6.7055225e-08 | X11: =IF(初期条件!$D$84=100%,0,IF(W12<=(初期条件!$F$64-$F$10)/初期条件!$D$85,W12,(初期条件!$F$64-$F$10)/初期条件!$D$85)) -> 0 | Y11: =IF(初期条件!$D$84=100%,0,IF(X12<=(初期条件!$F$64-$F$10)/初期条件!$D$85,X12,(初期条件!$F$64-$F$10)/初期条件!$D$85)) -> 0 | Z11: =IF(初期条件!$D$84=100%,0,IF(Y12<=(初期条件!$F$64-$F$10)/初期条件!$D$85,Y12,(初期条件!$F$64-$F$10)/初期条件!$D$85)) -> 0 | AA11: =IF(初期条件!$D$84=100%,0,IF(Z12<=(初期条件!$F$64-$F$10)/初期条件!$D$85,Z12,(初期条件!$F$64-$F$10)/初期条件!$D$85)) -> 0 | AB11: =IF(初期条件!$D$84=100%,0,IF(AA12<=(初期条件!$F$64-$F$10)/初期条件!$D$85,AA12,(初期条件!$F$64-$F$10)/初期条件!$D$85)) -> 0 | AC11: =IF(初期条件!$D$84=100%,0,IF(AB12<=(初期条件!$F$64-$F$10)/初期条件!$D$85,AB12,(初期条件!$F$64-$F$10)/初期条件!$D$85)) -> 0 | AD11: =IF(初期条件!$D$84=100%,0,IF(AC12<=(初期条件!$F$64-$F$10)/初期条件!$D$85,AC12,(初期条件!$F$64-$F$10)/初期条件!$D$85)) -> 0 | AE11: =SUM(F11:AD11) -> 2.951183e+08
C12: 償却後の簿価額 | F12: =(初期条件!F36+初期条件!F44)-(F10+F11) -> 2.777584e+08 | G12: =IF(G2>初期条件!$D$85,0,F12-G11) -> 2.603985e+08 | H12: =IF(H2>初期条件!$D$85,0,G12-H11) -> 2.430386e+08 | I12: =IF(I2>初期条件!$D$85,0,H12-I11) -> 2.256787e+08 | J12: =IF(J2>初期条件!$D$85,0,I12-J11) -> 2.083188e+08 | K12: =IF(K2>初期条件!$D$85,0,J12-K11) -> 1.909589e+08 | L12: =IF(L2>初期条件!$D$85,0,K12-L11) -> 1.73599e+08 | M12: =IF(M2>初期条件!$D$85,0,L12-M11) -> 1.562391e+08 | N12: =IF(N2>初期条件!$D$85,0,M12-N11) -> 1.388792e+08 | ... AD12: =IF(AD2>初期条件!$D$85,0,AC12-AD11) -> 0 | AE12: =SUM(F12:AD12) -> 2.3609464e+09
C13: 発電データ計測コスト | F13: =F39 -> 174000 | G13: =G39 -> 174000 | H13: =H39 -> 174000 | I13: =I39 -> 174000 | J13: =J39 -> 174000 | K13: =K39 -> 174000 | L13: =L39 -> 174000 | M13: =M39 -> 174000 | ... AD13: =AD39 -> 174000 | AE13: =SUM(F13:AD13) -> 4350000
C14: 金利支払い額 | F14: =F41 -> 5796484.5 | G14: =G41 -> 5027889.9 | H14: =H41 -> 4259295.2 | I14: =I41 -> 3490700.6 | J14: =J41 -> 2722106 | K14: =K41 -> 1953511.4 | L14: =L41 -> 1184916.7 | M14: =M41 -> 416322.09 | ... AD14: =AD41 -> 0 | AE14: =SUM(F14:AD14) -> 24851226
C15: 修繕・部品交換代 | F15: =F42 -> 1483883.8 | G15: =G42 -> 1483883.8 | H15: =H42 -> 1483883.8 | I15: =I42 -> 1483883.8 | J15: =J42 -> 1483883.8 | K15: =K42 -> 1483883.8 | L15: =L42 -> 1483883.8 | M15: =M42 -> 1483883.8 | ... AD15: =AD42 -> 0 | AE15: =SUM(F15:AD15) -> 28193792
C16: =C44 -> 機械設備償却資産税 | F16: =F44 -> 4263138.2 | G16: =G44 -> 3721719.6 | H16: =H44 -> 3249061.3 | I16: =I44 -> 2836430.5 | J16: =J44 -> 2476203.8 | K16: =K44 -> 2161725.9 | L16: =L44 -> 1887186.7 | M16: =M44 -> 1647514 | ... AD16: =AD44 -> 227731.74 | AE16: =SUM(F16:AD16) -> 32559841
C17: =C45 -> 土地の固定資産税 | F17: =F45 -> 472463.41
C18: 保険料 | F18: =F46 -> 2656064.7 | G18: =G46 -> 2656064.7 | H18: =H46 -> 2656064.7 | I18: =I46 -> 2656064.7 | J18: =J46 -> 2656064.7 | K18: =K46 -> 2656064.7 | L18: =L46 -> 2656064.7 | M18: =M46 -> 2656064.7 | ... AD18: =AD46 -> 2656064.7 | AE18: =SUM(F18:AD18) -> 66401617
C19: =C47 -> 電気主任技術者点検費用 | F19: =F47 -> 600000 | G19: =G47 -> 600000 | H19: =H47 -> 600000 | I19: =I47 -> 600000 | J19: =J47 -> 600000 | K19: =K47 -> 600000 | L19: =L47 -> 600000 | M19: =M47 -> 600000 | ... AD19: =AD47 -> 600000 | AE19: =SUM(F19:AD19) -> 15000000
C20: 設備管理費 | D20: 予想撤去費用↓↓ | F20: =F48 -> 480000 | G20: =G48 -> 480000 | H20: =H48 -> 480000 | I20: =I48 -> 480000 | J20: =J48 -> 480000 | K20: =K48 -> 480000 | L20: =L48 -> 480000 | M20: =M48 -> 480000 | ... AD20: =AD48 -> 0 | AE20: =SUM(F20:AD20) -> 9600000
C21: =C49 -> 20年後の現状復帰費用積み立て | D21: =D49 -> 0 | F21: =F49 -> 0 | G21: =G49 -> 0 | H21: =H49 -> 0 | I21: =I49 -> 0 | J21: =J49 -> 0 | K21: =K49 -> 0 | L21: =L49 -> 0 | M21: =M49 -> 0 | ... AD21: =AD49 -> 0
C22: =C50 -> 売電メーターの交換 | F22: =F50 -> 0 | G22: =G50 -> 0 | H22: =H50 -> 0 | I22: =I50 -> 0 | J22: =J50 -> 0 | K22: =K50 -> 0 | L22: =L50 -> 0 | M22: =M50 -> 0 | ... AD22: =AD50 -> 0
C23: 会計費用 | F23: =F51 -> 0 | G23: =G51 -> 0 | H23: =H51 -> 0 | I23: =I51 -> 0 | J23: =J51 -> 0 | K23: =K51 -> 0 | L23: =L51 -> 0 | M23: =M51 -> 0 | ... AD23: =AD51 -> 0 | AE23: =SUM(F23:AD23) -> 0
B24: 税引前利益 | F24: =F5-F9 -> 8032539.1 | G24: =G5-G9 -> 9608423.3 | H24: =H5-H9 -> 10644117 | I24: =I5-I9 -> 11620811 | J24: =J5-J9 -> 12546123 | K24: =K5-K9 -> 13426704 | L24: =L5-L9 -> 14268359 | M24: =M5-M9 -> 15076155 | ... AD24: =AD5-AD9 -> 32977373 | AE24: =SUM(F24:AD24) -> 4.945144e+08
B25: 法人税等 | F25: =IF(F24>=0,F24*初期条件!$D$91,0) -> 2048297.5 | G25: =IF(G2<=8,IF((F28+G24)>=0,G24*初期条件!$D$91,0),IF(G24>=0,G24*初期条件!$D$91,0)) -> 2450148 | H25: =IF(H2<=8,IF((G28+H24)>=0,H24*初期条件!$D$91,0),IF(H24>=0,H24*初期条件!$D$91,0)) -> 2714249.8 | I25: =IF(I2<=8,IF((H28+I24)>=0,I24*初期条件!$D$91,0),IF(I24>=0,I24*初期条件!$D$91,0)) -> 2963306.7 | J25: =IF(J2<=8,IF((I28+J24)>=0,J24*初期条件!$D$91,0),IF(J24>=0,J24*初期条件!$D$91,0)) -> 3199261.4 | K25: =IF(K2<=8,IF((J28+K24)>=0,K24*初期条件!$D$91,0),IF(K24>=0,K24*初期条件!$D$91,0)) -> 3423809.6 | L25: =IF(L2<=8,IF((K28+L24)>=0,L24*初期条件!$D$91,0),IF(L24>=0,L24*初期条件!$D$91,0)) -> 3638431.6 | M25: =IF(M2<=8,IF((L28+M24)>=0,M24*初期条件!$D$91,0),IF(M24>=0,M24*初期条件!$D$91,0)) -> 3844419.5 | N25: =IF(N2<=8,IF((M28+N24)>=0,N24*初期条件!$D$91,0),IF(N24>=0,N24*初期条件!$D$91,0)) -> 3953071.7 | ... AD25: =IF(AD2<=8,IF((AC28+AD24)>=0,AD24*初期条件!$D$91,0),IF(AD24>=0,AD24*初期条件!$D$91,0)) -> 8409230.2 | AE25: =SUM(F25:AD25) -> 1.2610117e+08
B26: 県税（法人事業税・電気ガス） | F26: =F24*初期条件!$D92 -> 425724.57 | G26: =G24*初期条件!$D92 -> 509246.44 | H26: =H24*初期条件!$D92 -> 564138.2 | I26: =I24*初期条件!$D92 -> 615902.97 | J26: =J24*初期条件!$D92 -> 664944.52 | K26: =K24*初期条件!$D92 -> 711615.32 | L26: =L24*初期条件!$D92 -> 756223.03 | M26: =M24*初期条件!$D92 -> 799036.21 | ... AD26: =AD24*初期条件!$D92 -> 1747800.8
B27: 税引後利益 | F27: =F24-F25 -> 5984241.6 | G27: =G24-G25 -> 7158275.4 | H27: =H24-H25 -> 7929867.1 | I27: =I24-I25 -> 8657504 | J27: =J24-J25 -> 9346861.7 | K27: =K24-K25 -> 10002895 | L27: =L24-L25 -> 10629928 | M27: =M24-M25 -> 11231735 | ... AD27: =AD24-AD25 -> 24568143 | AE27: =SUM(F27:AD27) -> 3.6841323e+08
B28: 税引き前利益累積損益 | F28: =F27 -> 5984241.6 | G28: =F28+G24 -> 15592665 | H28: =G28+H24 -> 26236782 | I28: =H28+I24 -> 37857593 | J28: =I28+J24 -> 50403716 | K28: =J28+K24 -> 63830420 | L28: =K28+L24 -> 78098779 | M28: =L28+M24 -> 93174934 | N28: =M28+N24 -> 1.0867718e+08 | ... AD28: =AC28+AD24 -> 4.924661e+08 | AE28: =AD28 -> 4.924661e+08
B30: 予想キャッシュフロー計算書（25年間毎年の数字） | E30: 0年 | F30: 1 | G30: 2 | H30: 3 | I30: 4 | J30: 5 | K30: 6 | L30: 7 | M30: 8 | N30: 9 | O30: 10 | P30: 11 | Q30: 12 | R30: 13 | S30: 14 | T30: 15 | U30: 16 | V30: 17 | W30: 18 | X30: 19 | Y30: 20 | Z30: 21 | AA30: 22 | AB30: 23 | AC30: 24 | AD30: 25 | AE30: 計
B31: =B3 -> 初期投資 設置ＫＷ数--＞ | D31: =D3 -> 2002
C32: 設備導入 | D32: =D4 -> 3.2533106e+08 | AE32: =SUM(E32:AD32) -> 0
C33: 自己資金投資金額 | D33: =初期条件!F15 -> 97599317 | AE33: =SUM(E33:AD33) -> 0
B34: 収入 | D34: =F38 -> 44392502 | F34: =SUM(F35:F37) -> 41318474 | G34: =SUM(G35:G37) -> 41111881 | H34: =SUM(H35:H37) -> 40906322 | I34: =SUM(I35:I37) -> 40701790 | J34: =SUM(J35:J37) -> 40498281 | K34: =SUM(K35:K37) -> 40295790 | L34: =SUM(L35:L37) -> 40094311 | M34: =SUM(M35:M37) -> 39893839 | ... AD34: =SUM(AD35:AD37) -> 36635170 | AE34: =SUM(F34:AD34) -> 9.7329596e+08
C35: 売電売上 | F35: =設備所有者の売電収入シナリオ!C11 -> 41318474 | G35: =設備所有者の売電収入シナリオ!D11 -> 41111881 | H35: =設備所有者の売電収入シナリオ!E11 -> 40906322 | I35: =設備所有者の売電収入シナリオ!F11 -> 40701790 | J35: =設備所有者の売電収入シナリオ!G11 -> 40498281 | K35: =設備所有者の売電収入シナリオ!C16 -> 40295790 | L35: =設備所有者の売電収入シナリオ!D16 -> 40094311 | M35: =設備所有者の売電収入シナリオ!E16 -> 39893839 | N35: =設備所有者の売電収入シナリオ!F16 -> 39694370 | O35: =設備所有者の売電収入シナリオ!G16 -> 39495898 | P35: =設備所有者の売電収入シナリオ!C21 -> 39298419 | Q35: =設備所有者の売電収入シナリオ!D21 -> 39101927 | R35: =設備所有者の売電収入シナリオ!E21 -> 38906417 | S35: =設備所有者の売電収入シナリオ!F21 -> 38711885 | T35: =設備所有者の売電収入シナリオ!G21 -> 38518326 | U35: =設備所有者の売電収入シナリオ!C26 -> 38325734 | V35: =設備所有者の売電収入シナリオ!D26 -> 38134105 | W35: =設備所有者の売電収入シナリオ!E26 -> 37943435 | X35: =設備所有者の売電収入シナリオ!F26 -> 37753718 | Y35: =設備所有者の売電収入シナリオ!G26 -> 37564949 | Z35: =設備所有者の売電収入シナリオ!C31 -> 37377124 | AA35: =設備所有者の売電収入シナリオ!D31 -> 37190239 | AB35: =設備所有者の売電収入シナリオ!E31 -> 37004287 | AC35: =設備所有者の売電収入シナリオ!F31 -> 36819266 | AD35: =設備所有者の売電収入シナリオ!G31 -> 36635170 | AE35: =SUM(F35:AD35) -> 9.7329596e+08
F36: 0 | G36: 0 | H36: 0 | I36: 0 | J36: 0 | K36: 0 | L36: 0 | M36: 0 | N36: 0 | O36: 0 | P36: 0 | Q36: 0 | R36: 0 | S36: 0 | T36: 0 | U36: 0 | V36: 0 | W36: 0 | X36: 0 | Y36: 0 | Z36: 0 | AA36: 0 | AB36: 0 | AC36: 0 | AD36: 0 | AE36: =SUM(F36:AD36) -> 0
C37: グリーン電力証書の販売収入 | F37: 0 | G37: 0 | H37: 0 | I37: 0 | J37: 0 | K37: 0 | L37: 0 | M37: 0 | N37: 0 | O37: 0 | P37: 0 | Q37: 0 | R37: 0 | S37: 0 | T37: 0 | U37: 0 | V37: 0 | W37: 0 | X37: 0 | Y37: 0 | Z37: 0 | AA37: 0 | AB37: 0 | AC37: 0 | AD37: 0 | AE37: =SUM(F37:AD37) -> 0
B38: 支出 | F38: =SUM(F39:F51) -> 44392502 | G38: =SUM(G39:G51) -> 43082489 | H38: =SUM(H39:H51) -> 41841236 | I38: =SUM(I39:I51) -> 40660011 | J38: =SUM(J39:J51) -> 39531189 | K38: =SUM(K39:K51) -> 38448117 | L38: =SUM(L39:L51) -> 37404983 | M38: =SUM(M39:M51) -> 36396716 | ... AD38: =SUM(AD39:AD51) -> 4130259.8 | AE38: =SUM(F38:AD38) -> 4.2273412e+08
C39: 発電データ計測コスト | F39: =IF(F30>=26,0,初期条件!F73+初期条件!F74) -> 174000 | G39: =F39 -> 174000 | H39: =G39 -> 174000 | I39: =H39 -> 174000 | J39: =I39 -> 174000 | K39: =J39 -> 174000 | L39: =K39 -> 174000 | M39: =L39 -> 174000 | N39: =M39 -> 174000 | ... AD39: =AC39 -> 174000 | AE39: =SUM(F39:AD39) -> 4350000
C40: 元本返済額 | F40: =IF(初期条件!$D$18=1,借入返済表!$J$29,借入返済表!$T$25) -> 28466468 | G40: =IF(初期条件!$D$18=1,借入返済表!$J$41,借入返済表!$T$37) -> 28466468 | H40: =IF(初期条件!$D$18=1,借入返済表!$J$53,借入返済表!$T$49) -> 28466468 | I40: =IF(初期条件!$D$18=1,借入返済表!$J$65,借入返済表!$T$61) -> 28466468 | J40: =IF(初期条件!$D$18=1,借入返済表!$J$77,借入返済表!$T$73) -> 28466468 | K40: =IF(初期条件!$D$18=1,借入返済表!$J$89,借入返済表!$T$85) -> 28466468 | L40: =IF(初期条件!$D$18=1,借入返済表!$J$101,借入返済表!$T$97) -> 28466468 | M40: =IF(初期条件!$D$18=1,借入返済表!$J$113,借入返済表!$T$109) -> 28466468 | N40: =IF(初期条件!$D$18=1,借入返済表!$J$125,借入返済表!$T$121) -> 0 | O40: =IF(初期条件!$D$18=1,借入返済表!$J$137,借入返済表!$T$133) -> 0 | P40: =IF(初期条件!$D$18=1,借入返済表!$J$149,借入返済表!$T$145) -> 0 | Q40: =IF(初期条件!$D$18=1,借入返済表!$J$161,借入返済表!$T$157) -> 0 | R40: =IF(初期条件!$D$18=1,借入返済表!$J$173,借入返済表!$T$169) -> 0 | S40: =IF(初期条件!$D$18=1,借入返済表!$J$185,借入返済表!$T$181) -> 0 | T40: =IF(初期条件!$D$18=1,借入返済表!$J$197,借入返済表!$T$193) -> 0 | U40: =IF(初期条件!$D$18=1,借入返済表!$J$209,借入返済表!$T$205) -> 0 | V40: =IF(初期条件!$D$18=1,借入返済表!$J$221,借入返済表!$T$217) -> 0 | W40: =IF(初期条件!$D$18=1,借入返済表!$J$233,借入返済表!$T$229) -> 0 | X40: =IF(初期条件!$D$18=1,借入返済表!$J$245,借入返済表!$T$241) -> 0 | Y40: =IF(初期条件!$D$18=1,借入返済表!$J$257,借入返済表!$T$253) -> 0 | Z40: =IF(初期条件!$D$18=1,借入返済表!$J$269,借入返済表!$T$265) -> 0 | AA40: =IF(初期条件!$D$18=1,借入返済表!$J$281,借入返済表!$T$277) -> 0 | AB40: =IF(初期条件!$D$18=1,借入返済表!$J$293,借入返済表!$T$289) -> 0 | AC40: =IF(初期条件!$D$18=1,借入返済表!$J$305,借入返済表!$T$301) -> 0 | AD40: =IF(初期条件!$D$18=1,借入返済表!$J$317,借入返済表!$T$313) -> 0 | AE40: =SUM(F40:AD40) -> 2.2773174e+08
C41: 金利支払い額 | F41: =IF(初期条件!$D$18=1,借入返済表!$I$29,借入返済表!$S$25) -> 5796484.5 | G41: =IF(初期条件!$D$18=1,借入返済表!$I$41,借入返済表!$S$37) -> 5027889.9 | H41: =IF(初期条件!$D$18=1,借入返済表!$I$53,借入返済表!$S$49) -> 4259295.2 | I41: =IF(初期条件!$D$18=1,借入返済表!$I$65,借入返済表!$S$61) -> 3490700.6 | J41: =IF(初期条件!$D$18=1,借入返済表!$I$77,借入返済表!$S$73) -> 2722106 | K41: =IF(初期条件!$D$18=1,借入返済表!$I$89,借入返済表!$S$85) -> 1953511.4 | L41: =IF(初期条件!$D$18=1,借入返済表!$I$101,借入返済表!$S$97) -> 1184916.7 | M41: =IF(初期条件!$D$18=1,借入返済表!$I$113,借入返済表!$S$109) -> 416322.09 | N41: =IF(初期条件!$D$18=1,借入返済表!$I$125,借入返済表!$S$121) -> -3.7970021e-09 | O41: =IF(初期条件!$D$18=1,借入返済表!$I$137,借入返済表!$S$133) -> -3.7970021e-09 | P41: =IF(初期条件!$D$18=1,借入返済表!$I$149,借入返済表!$S$145) -> -3.7970021e-09 | Q41: =IF(初期条件!$D$18=1,借入返済表!$I$161,借入返済表!$S$157) -> -3.7970021e-09 | R41: =IF(初期条件!$D$18=1,借入返済表!$I$173,借入返済表!$S$169) -> -3.7970021e-09 | S41: =IF(初期条件!$D$18=1,借入返済表!$I$185,借入返済表!$S$181) -> -3.7970021e-09 | T41: =IF(初期条件!$D$18=1,借入返済表!$I$197,借入返済表!$S$193) -> -3.7970021e-09 | U41: =IF(初期条件!$D$18=1,借入返済表!$I$209,借入返済表!$S$205) -> 0 | V41: =IF(初期条件!$D$18=1,借入返済表!$I$221,借入返済表!$S$217) -> 0 | W41: =IF(初期条件!$D$18=1,借入返済表!$I$233,借入返済表!$S$229) -> 0 | X41: =IF(初期条件!$D$18=1,借入返済表!$I$245,借入返済表!$S$241) -> 0 | Y41: =IF(初期条件!$D$18=1,借入返済表!$I$257,借入返済表!$S$253) -> 0 | Z41: =IF(初期条件!$D$18=1,借入返済表!$I$269,借入返済表!$S$265) -> 0 | AA41: =IF(初期条件!$D$18=1,借入返済表!$I$281,借入返済表!$S$277) -> 0 | AB41: =IF(初期条件!$D$18=1,借入返済表!$I$293,借入返済表!$S$289) -> 0 | AC41: =IF(初期条件!$D$18=1,借入返済表!$I$305,借入返済表!$S$301) -> 0 | AD41: =IF(初期条件!$D$18=1,借入返済表!$I$317,借入返済表!$S$313) -> 0 | AE41: =SUM(F41:AD41) -> 24851226
...

Sheet 事業収支（抜粋）
B2: 初期投資 設置ＫＷ数--＞ | D2: =事業収支!$D$31 -> 2002 | F2: 出資比率 | G2: =初期条件!D15 -> 0.3 | H2: 融資比率 | I2: =1-G2 -> 0.7 | K2: 投資元本回収年数 | M2: =事業収支!D63 -> 19
C3: 設備+工事一式合計金額 | D3: =事業収支!D32 -> 3.2533106e+08 | F3: =事業収支!C66 -> 自己資金投資利回り | G3: 10 | H3: 20 | I3: 25 | K3: 投資自己資金の何倍を回収できるか（２５年間で） | M3: =事業収支!G66 -> 1.6923125
C4: 自己資金投資額（＝上記ｘ出資比率） | D4: =事業収支!D33 -> 97599317 | G4: =事業収支!$D$67 -> 0.069290434 | H4: =事業収支!$E$67 -> 0.19788022 | I4: =事業収支!$F$67 -> 0.22564167
F5: =事業収支!C68 -> 総資産投資利回り | G5: =G3 -> 10 | H5: =H3 -> 20 | I5: =I3 -> 25 | K5: 自己資金ＩＲＲ（税引き前20年） | M5: =事業収支!K69 -> 0.011976303
G6: =事業収支!$D$69 -> 0.02078713 | H6: =事業収支!$E$69 -> 0.059364065 | I6: =事業収支!$F$69 -> 0.067692502 | K6: 自己資金ＩＲＲ（税引き前25年間） | M6: =事業収支!L69 -> 0
B7: 要約版
B8: 予想キャッシュフロー計算書（5年毎） | D8: 設置容量 | E8: 1 | F8: 5 | G8: 10 | H8: 11 | I8: 15 | J8: 16 | K8: 20 | L8: 25 | M8: 25年間合計
B9: 収入 | D9: =D2 -> 2002 | E9: =事業収支!F34 -> 41318474 | F9: =事業収支!J34 -> 40498281 | G9: =事業収支!O34 -> 39495898 | H9: =事業収支!P34 -> 39298419 | I9: =事業収支!T34 -> 38518326 | J9: =事業収支!U34 -> 38325734 | K9: =事業収支!Y34 -> 37564949 | L9: =事業収支!AD34 -> 36635170 | M9: =事業収支!AE34 -> 9.7329596e+08
C10: 売電売上 | E10: =事業収支!F35 -> 41318474 | F10: =事業収支!J35 -> 40498281 | G10: =事業収支!O35 -> 39495898 | H10: =事業収支!P35 -> 39298419 | I10: =事業収支!T35 -> 38518326 | J10: =事業収支!U35 -> 38325734 | K10: =事業収支!Y35 -> 37564949 | L10: =事業収支!AD35 -> 36635170 | M10: =事業収支!AE35 -> 9.7329596e+08
E11: =事業収支!F36 -> 0 | F11: =事業収支!J36 -> 0 | G11: =事業収支!O36 -> 0 | H11: =事業収支!P36 -> 0 | I11: =事業収支!T36 -> 0 | J11: =事業収支!U36 -> 0 | K11: =事業収支!Y36 -> 0 | L11: =事業収支!AD36 -> 0 | M11: =事業収支!AE36 -> 0
C12: グリーン電力証書の販売収入 | E12: =事業収支!F37 -> 0 | F12: =事業収支!J37 -> 0 | G12: =事業収支!O37 -> 0 | H12: =事業収支!P37 -> 0 | I12: =事業収支!T37 -> 0 | J12: =事業収支!U37 -> 0 | K12: =事業収支!Y37 -> 0 | L12: =事業収支!AD37 -> 0 | M12: =事業収支!AE37 -> 0
B13: 支出 | E13: =事業収支!F38 -> 44392502 | F13: =事業収支!J38 -> 39531189 | G13: =事業収支!O38 -> 7322030.1 | H13: =事業収支!P38 -> 6962566.6 | I13: =事業収支!T38 -> 6503103 | J13: =事業収支!U38 -> 6422243.3 | K13: =事業収支!Y38 -> 6739695.3 | L13: =事業収支!AD38 -> 4130259.8 | M13: =事業収支!AE38 -> 4.2273412e+08
C14: =事業収支!C39 -> 発電データ計測コスト | E14: =事業収支!F39 -> 174000 | F14: =事業収支!J39 -> 174000 | G14: =事業収支!O39 -> 174000 | H14: =事業収支!P39 -> 174000 | I14: =事業収支!T39 -> 174000 | J14: =事業収支!U39 -> 174000 | K14: =事業収支!Y39 -> 174000 | L14: =事業収支!AD39 -> 174000 | M14: =事業収支!AE39 -> 4350000
C15: =事業収支!C40 -> 元本返済額 | E15: =事業収支!F40 -> 28466468 | F15: =事業収支!J40 -> 28466468 | G15: =事業収支!O40 -> 0 | H15: =事業収支!P40 -> 0 | I15: =事業収支!T40 -> 0 | J15: =事業収支!U40 -> 0 | K15: =事業収支!Y40 -> 0 | L15: =事業収支!AD40 -> 0 | M15: =事業収支!AE40 -> 2.2773174e+08
C16: =事業収支!C41 -> 金利支払い額 | E16: =事業収支!F41 -> 5796484.5 | F16: =事業収支!J41 -> 2722106 | G16: =事業収支!O41 -> -3.7970021e-09 | H16: =事業収支!P41 -> -3.7970021e-09 | I16: =事業収支!T41 -> -3.7970021e-09 | J16: =事業収支!U41 -> 0 | K16: =事業収支!Y41 -> 0 | L16: =事業収支!AD41 -> 0 | M16: =事業収支!AE41 -> 24851226
C17: =事業収支!#REF! -> #REF! | E17: =事業収支!#REF! -> #REF! | F17: =事業収支!#REF! -> #REF! | G17: =事業収支!#REF! -> #REF! | H17: =事業収支!#REF! -> #REF! | I17: =事業収支!#REF! -> #REF! | J17: =事業収支!#REF! -> #REF! | K17: =事業収支!#REF! -> #REF! | L17: =事業収支!#REF! -> #REF! | M17: =事業収支!#REF! -> #REF!
C18: =事業収支!#REF! -> #REF! | E18: =事業収支!#REF! -> #REF! | F18: =事業収支!#REF! -> #REF! | G18: =事業収支!#REF! -> #REF! | H18: =事業収支!#REF! -> #REF! | I18: =事業収支!#REF! -> #REF! | J18: =事業収支!#REF! -> #REF! | K18: =事業収支!#REF! -> #REF! | L18: =事業収支!#REF! -> #REF! | M18: =事業収支!#REF! -> #REF!
C19: =事業収支!C42 -> 修繕・部品交換代 | E19: =事業収支!F42 -> 1483883.8 | F19: =事業収支!J42 -> 1483883.8 | G19: =事業収支!O42 -> 1483883.8 | H19: =事業収支!P42 -> 1483883.8 | I19: =事業収支!T42 -> 1483883.8 | J19: =事業収支!U42 -> 1483883.8 | K19: =事業収支!Y42 -> 0 | L19: =事業収支!AD42 -> 0 | M19: =事業収支!AE42 -> 28193792
C20: =事業収支!C44 -> 機械設備償却資産税 | E20: =事業収支!F44 -> 4263138.2 | F20: =事業収支!J44 -> 2476203.8 | G20: =事業収支!O44 -> 1255618.2 | H20: =事業収支!P44 -> 1096154.7 | I20: =事業収支!T44 -> 636691.16 | J20: =事業収支!U44 -> 555831.39 | K20: =事業収支!Y44 -> 322849.44 | L20: =事業収支!AD44 -> 227731.74 | M20: =事業収支!AE44 -> 32559841
C21: =事業収支!C46 -> 保険料（損保＆賠償） | E21: =事業収支!F46 -> 2656064.7 | F21: =事業収支!J46 -> 2656064.7 | G21: =事業収支!O46 -> 2656064.7 | H21: =事業収支!P46 -> 2656064.7 | I21: =事業収支!T46 -> 2656064.7 | J21: =事業収支!U46 -> 2656064.7 | K21: =事業収支!Y46 -> 2656064.7 | L21: =事業収支!AD46 -> 2656064.7 | M21: =事業収支!AE46 -> 66401617
C22: =事業収支!C47 -> 電気主任技術者点検費用 | E22: =事業収支!F47 -> 600000 | F22: =事業収支!J47 -> 600000 | G22: =事業収支!O47 -> 600000 | H22: =事業収支!P47 -> 600000 | I22: =事業収支!T47 -> 600000 | J22: =事業収支!U47 -> 600000 | K22: =事業収支!Y47 -> 600000 | L22: =事業収支!AD47 -> 600000 | M22: =事業収支!AE47 -> 15000000
C23: =事業収支!C48 -> 設備管理費 | D23: 予想撤去費用↓↓ | E23: =事業収支!F48 -> 480000 | F23: =事業収支!J48 -> 480000 | G23: =事業収支!O48 -> 480000 | H23: =事業収支!P48 -> 480000 | I23: =事業収支!T48 -> 480000 | J23: =事業収支!U48 -> 480000 | K23: =事業収支!Y48 -> 480000 | L23: =事業収支!AD48 -> 0 | M23: =事業収支!AE48 -> 9600000
C24: =事業収支!C49 -> 20年後の現状復帰費用積み立て | D24: =事業収支!D21 -> 0 | E24: =事業収支!F49 -> 0 | F24: =事業収支!J49 -> 0 | G24: =事業収支!O49 -> 0 | H24: =事業収支!P49 -> 0 | I24: =事業収支!T49 -> 0 | J24: =事業収支!U49 -> 0 | K24: =事業収支!Y49 -> 2034317.8 | L24: =事業収支!AD49 -> 0 | M24: =事業収支!AE49 -> 2034317.8
C25: =事業収支!C50 -> 売電メーターの交換 | E25: =事業収支!F50 -> 0 | F25: =事業収支!J50 -> 0 | G25: =事業収支!O50 -> 200000 | H25: =事業収支!P50 -> 0 | I25: =事業収支!T50 -> 0 | J25: =事業収支!U50 -> 0 | K25: =事業収支!Y50 -> 0 | L25: =事業収支!AD50 -> 0 | M25: =事業収支!AE50 -> 200000
C26: =事業収支!C51 -> 会計費用 | E26: =事業収支!F51 -> 0 | F26: =事業収支!J51 -> 0 | G26: =事業収支!O51 -> 0 | H26: =事業収支!P51 -> 0 | I26: =事業収支!T51 -> 0 | J26: =事業収支!U51 -> 0 | K26: =事業収支!Y51 -> 0 | L26: =事業収支!AD51 -> 0 | M26: =事業収支!AE51 -> 0
B27: 手元現金額（税引き前） | E27: =事業収支!F52 -> -3074028.8 | F27: =事業収支!J52 -> 967091.76 | G27: =事業収支!O52 -> 32173868 | H27: =事業収支!P52 -> 32335852 | I27: =事業収支!T52 -> 32015222 | J27: =事業収支!U52 -> 31903491 | K27: =事業収支!Y52 -> 30825254 | L27: =事業収支!AD52 -> 32504910 | M27: =事業収支!AE52 -> 5.5056183e+08
B28: 手許現金累積額（税引き前） | E28: =事業収支!F53 -> -3074028.8 | F28: =事業収支!J53 -> -4970680 | G28: =事業収支!O53 -> 67626991 | H28: =事業収支!P53 -> 99962843 | I28: =事業収支!T53 -> 2.2857739e+08 | J28: =事業収支!U53 -> 2.6048088e+08 | K28: =事業収支!Y53 -> 3.8625948e+08 | L28: =事業収支!AD53 -> 5.5056183e+08 | M28: =L28 -> 5.5056183e+08
B29: 法人税等 | E29: =事業収支!F54 -> 2048297.5 | F29: =事業収支!J54 -> 3199261.4 | G29: =事業収支!O54 -> 3898040.1 | H29: =事業収支!P54 -> 3939346 | I29: =事業収支!T54 -> 3857585.4 | J29: =事業収支!U54 -> 3829093.8 | K29: =事業収支!Y54 -> 7980917.8 | L29: =事業収支!AD54 -> 8409230.2 | M29: =事業収支!AE54 -> 1.2610117e+08
B30: 手元現金額（税引き後） | E30: =事業収支!F58 -> -5967951.9 | F30: =事業収支!J58 -> -3552962.7 | G30: =事業収支!O58 -> 26666549 | H30: =事業収支!P58 -> 26770174 | I30: =事業収支!T58 -> 26565059 | J30: =事業収支!U58 -> 26493582 | K30: =事業収支!Y58 -> 19549469 | L30: =事業収支!AD58 -> 20623987 | M30: =事業収支!AE58 -> 3.7240066e+08
B31: 税引き後累積手元現金高 | E31: =事業収支!F59 -> -5967951.9 | F31: =事業収支!J59 -> -23867829 | G31: =事業収支!O59 -> 22228052 | H31: =事業収支!P59 -> 48998226 | I31: =事業収支!T59 -> 1.5561265e+08 | J31: =事業収支!U59 -> 1.8210623e+08 | K31: =事業収支!Y59 -> 2.6814342e+08 | L31: =事業収支!AD59 -> 3.7240066e+08 | M31: =事業収支!AE59 -> 3.7240066e+08
B32: 自己資本投資利回り（税引き前） | E32: =事業収支!F60 -> -0.031496417 | F32: =事業収支!J60 -> 0.0099087964 | G32: =事業収支!O60 -> 0.3296526 | H32: =事業収支!P60 -> 0.33131228 | I32: =事業収支!T60 -> 0.32802712 | J32: =事業収支!U60 -> 0.32688231 | K32: =事業収支!Y60 -> 0.31583473 | L32: =事業収支!AD60 -> 0.33304444 | M32: =事業収支!AE60 -> 0.22564167

Sheet 設備所有者の売電収入シナリオ
B2: 予想売電収入表（25年間毎年） | D2: 設置容量⇒ | E2: =事業収支!D3 -> 2002
B4: 電力取引所でのソーラー電力従量料金売買単価 初年度 | C4: 固定価格買取期間 | D4: 全量買取制度下においての外販時単価 | E4: PV効率低下率
B5: =初期条件!D67 -> 18 | C5: =初期条件!D17 -> 25 | D5: =初期条件!D67 -> 18 | E5: =初期条件!D14 -> 0.005
C7: 1 | D7: 2 | E7: 3 | F7: 4 | G7: 5
B8: 年間発電量 | C8: =初期条件!D12*初期条件!D13*(1-$E$5/100)^(C$7-1) -> 2295470.8 | D8: =C8*(1-$E$5) -> 2283993.4 | E8: =D8*(1-$E$5) -> 2272573.4 | F8: =E8*(1-$E$5) -> 2261210.6 | G8: =F8*(1-$E$5) -> 2249904.5
B9: 取引所での電力単価 | C9: =$B$5*(1+初期条件!$D$69)^(C$7-1) -> 18 | D9: =$B$5*(1+初期条件!$D$69)^(D$7-1) -> 18.27 | E9: =$B$5*(1+初期条件!$D$69)^(E$7-1) -> 18.54405 | F9: =$B$5*(1+初期条件!$D$69)^(F$7-1) -> 18.822211 | G9: =$B$5*(1+初期条件!$D$69)^(G$7-1) -> 19.104544
B10: 全量買取制度下での電力外販単価 | C10: =IF(C7<=$C$5,$D$5,C9) -> 18 | D10: =IF(D7<=$C$5,$D$5,D9) -> 18 | E10: =IF(E7<=$C$5,$D$5,E9) -> 18 | F10: =IF(F7<=$C$5,$D$5,F9) -> 18 | G10: =IF(G7<=$C$5,$D$5,G9) -> 18
B11: ソーラー電力外販収入 | C11: =C8*C10 -> 41318474 | D11: =D8*D10 -> 41111881 | E11: =E8*E10 -> 40906322 | F11: =F8*F10 -> 40701790 | G11: =G8*G10 -> 40498281
C12: 6 | D12: 7 | E12: 8 | F12: 9 | G12: 10
B13: 年間発電量 | C13: =G8*(1-$E$5) -> 2238655 | D13: =C13*(1-$E$5) -> 2227461.7 | E13: =D13*(1-$E$5) -> 2216324.4 | F13: =E13*(1-$E$5) -> 2205242.8 | G13: =F13*(1-$E$5) -> 2194216.6
B14: 取引所での電力単価 | C14: =$B$5*(1+初期条件!$D$69)^(C$12-1) -> 19.391112 | D14: =$B$5*(1+初期条件!$D$69)^(D$12-1) -> 19.681979 | E14: =$B$5*(1+初期条件!$D$69)^(E$12-1) -> 19.977208 | F14: =$B$5*(1+初期条件!$D$69)^(F$12-1) -> 20.276867 | G14: =$B$5*(1+初期条件!$D$69)^(G$12-1) -> 20.58102
B15: 全量買取制度下での電力外販単価 | C15: =IF(C12<=$C$5,$D$5,C14) -> 18 | D15: =IF(D12<=$C$5,$D$5,D14) -> 18 | E15: =IF(E12<=$C$5,$D$5,E14) -> 18 | F15: =IF(F12<=$C$5,$D$5,F14) -> 18 | G15: =IF(G12<=$C$5,$D$5,G14) -> 18
B16: ソーラー電力外販収入 | C16: =C13*C15 -> 40295790 | D16: =D13*D15 -> 40094311 | E16: =E13*E15 -> 39893839 | F16: =F13*F15 -> 39694370 | G16: =G13*G15 -> 39495898
C17: 11 | D17: 12 | E17: 13 | F17: 14 | G17: 15
B18: 年間発電量 | C18: =G13*(1-$E$5) -> 2183245.5 | D18: =C18*(1-$E$5) -> 2172329.3 | E18: =D18*(1-$E$5) -> 2161467.6 | F18: =E18*(1-$E$5) -> 2150660.3 | G18: =F18*(1-$E$5) -> 2139907
B19: 取引所での電力単価 | C19: =$B$5*(1+初期条件!$D$69)^(C$17-1) -> 20.889735 | D19: =$B$5*(1+初期条件!$D$69)^(D$17-1) -> 21.203081 | E19: =$B$5*(1+初期条件!$D$69)^(E$17-1) -> 21.521127 | F19: =$B$5*(1+初期条件!$D$69)^(F$17-1) -> 21.843944 | G19: =$B$5*(1+初期条件!$D$69)^(G$17-1) -> 22.171603
B20: 全量買取制度下での電力外販単価 | C20: =IF(C17<=$C$5,$D$5,C19) -> 18 | D20: =IF(D17<=$C$5,$D$5,D19) -> 18 | E20: =IF(E17<=$C$5,$D$5,E19) -> 18 | F20: =IF(F17<=$C$5,$D$5,F19) -> 18 | G20: =IF(G17<=$C$5,$D$5,G19) -> 18
B21: ソーラー電力外販収入 | C21: =C18*C20 -> 39298419 | D21: =D18*D20 -> 39101927 | E21: =E18*E20 -> 38906417 | F21: =F18*F20 -> 38711885 | G21: =G18*G20 -> 38518326
C22: 16 | D22: 17 | E22: 18 | F22: 19 | G22: 20
B23: 年間発電量 | C23: =G18*(1-$E$5) -> 2129207.4 | D23: =C23*(1-$E$5) -> 2118561.4 | E23: =D23*(1-$E$5) -> 2107968.6 | F23: =E23*(1-$E$5) -> 2097428.8 | G23: =F23*(1-$E$5) -> 2086941.6
B24: 取引所での電力単価 | C24: =$B$5*(1+初期条件!$D$69)^(C$22-1) -> 22.504177 | D24: =$B$5*(1+初期条件!$D$69)^(D$22-1) -> 22.84174 | E24: =$B$5*(1+初期条件!$D$69)^(E$22-1) -> 23.184366 | F24: =$B$5*(1+初期条件!$D$69)^(F$22-1) -> 23.532131 | G24: =$B$5*(1+初期条件!$D$69)^(G$22-1) -> 23.885113
B25: 全量買取制度下での電力外販単価 | C25: =IF(C22<=$C$5,$D$5,C24) -> 18 | D25: =IF(D22<=$C$5,$D$5,D24) -> 18 | E25: =IF(E22<=$C$5,$D$5,E24) -> 18 | F25: =IF(F22<=$C$5,$D$5,F24) -> 18 | G25: =IF(G22<=$C$5,$D$5,G24) -> 18
B26: ソーラー電力外販収入 | C26: =C23*C25 -> 38325734 | D26: =D23*D25 -> 38134105 | E26: =E23*E25 -> 37943435 | F26: =F23*F25 -> 37753718 | G26: =G23*G25 -> 37564949
C27: 21 | D27: 22 | E27: 23 | F27: 24 | G27: 25
B28: 年間発電量 | C28: =G23*(1-$E$5) -> 2076506.9 | D28: =C28*(1-$E$5) -> 2066124.4 | E28: =D28*(1-$E$5) -> 2055793.7 | F28: =E28*(1-$E$5) -> 2045514.8 | G28: =F28*(1-$E$5) -> 2035287.2 | I28: =C28+D28+E28+F28+G28 -> 10279227 | J28: =D33 -> 43792771 | K28: =I28+J28 -> 54071998
B29: 取引所での電力単価 | C29: =$B$5*(1+初期条件!$D$69)^(C$27-1) -> 24.24339 | D29: =$B$5*(1+初期条件!$D$69)^(D$27-1) -> 24.607041 | E29: =$B$5*(1+初期条件!$D$69)^(E$27-1) -> 24.976147 | F29: =$B$5*(1+初期条件!$D$69)^(F$27-1) -> 25.350789 | G29: =$B$5*(1+初期条件!$D$69)^(G$27-1) -> 25.731051
B30: 全量買取制度下での電力外販単価 | C30: =IF(C27<=$C$5,$D$5,C29) -> 18 | D30: =IF(D27<=$C$5,$D$5,D29) -> 18 | E30: =IF(E27<=$C$5,$D$5,E29) -> 18 | F30: =IF(F27<=$C$5,$D$5,F29) -> 18 | G30: =IF(G27<=$C$5,$D$5,G29) -> 18
B31: ソーラー電力外販収入 | C31: =C28*C30 -> 37377124 | D31: =D28*D30 -> 37190239 | E31: =E28*E30 -> 37004287 | F31: =F28*F30 -> 36819266 | G31: =G28*G30 -> 36635170
C32: 25年間の合計 | D32: 20年間の合計
B33: 年間発電量 | C33: =SUM(C8:G8)+SUM(C13:G13)+SUM(C18:G18)+SUM(C23:G23)+SUM(C28:G28) -> 54071998 | D33: =C33-SUM(C28:G28) -> 43792771
B34: 取引所での電力単価
B35: 全量買取制度下での電力外販単価
B36: ソーラー電力外販収入 | C36: =SUM(C11:G11)+SUM(C16:G16)+SUM(C21:G21)+SUM(C26:G26)+SUM(C31:G31) -> 9.7329596e+08

Sheet 借入返済表
H2: 返済回数 | Q2: 返済回数
F3: 借入額 | G3: 金利（年利 | H3: 月数換算で | I3: 年数換算で | O3: 借入額 | P3: 金利（年利 | Q3: 月数換算で | R3: 年数換算で
F4: =初期条件!$F$16 -> 2.2773174e+08 | G4: =初期条件!$D$87 -> 0.027 | H4: =初期条件!$D$88*12 -> 96 | I4: =初期条件!$D$88 -> 8 | O4: =F4 -> 2.2773174e+08 | P4: =G4 -> 0.027 | Q4: =H4 -> 96 | R4: =I4 -> 8
E6: 1 | F6: 2 | G6: 3 | H6: 4 | I6: 5 | J6: 6 | K6: 7 | L6: 8 | M6: 9 | N6: 10 | O6: 11 | P6: 12 | Q6: 13 | R6: 14 | S6: 15
B7: 元利均等方式 | D7: 元本返済額 | E7: =J29 -> 25852942 | F7: =J41 -> 26559675 | G7: =J53 -> 27285727 | H7: =J65 -> 28031627 | I7: =J77 -> 28797918 | J7: =J89 -> 29585156 | K7: =J101 -> 30393915 | L7: =J113 -> 31224783 | M7: =J125 -> 0 | N7: =J137 -> 0 | O7: =J149 -> 0 | P7: =J161 -> 0 | Q7: =J173 -> 0 | R7: =J185 -> 0 | S7: =J197 -> 0
D8: 金利支払い額 | E8: =I29 -> 5830384.8 | F8: =I41 -> 5123652.1 | G8: =I53 -> 4397599.8 | H8: =I65 -> 3651699.6 | I8: =I77 -> 2885409 | J8: =I89 -> 2098170.5 | K8: =I101 -> 1289411.7 | L8: =I113 -> 458544.04 | M8: =I125 -> 0 | N8: =I137 -> 0 | O8: =I149 -> 0 | P8: =I161 -> 0 | Q8: =I173 -> 0 | R8: =I185 -> 0 | S8: =I197 -> 0
B9: 元本均等方式 | D9: 元本返済額 | E9: =T25 -> 28466468 | F9: =T37 -> 28466468 | G9: =T49 -> 28466468 | H9: =T61 -> 28466468 | I9: =T73 -> 28466468 | J9: =T85 -> 28466468 | K9: =T97 -> 28466468 | L9: =T109 -> 28466468 | M9: =T121 -> 0 | N9: =T133 -> 0 | O9: =T145 -> 0 | P9: =T157 -> 0 | Q9: =T169 -> 0 | R9: =T181 -> 0 | S9: =T193 -> 0
D10: 金利支払い額 | E10: =S25 -> 5796484.5 | F10: =S37 -> 5027889.9 | G10: =S49 -> 4259295.2 | H10: =S61 -> 3490700.6 | I10: =S73 -> 2722106 | J10: =S85 -> 1953511.4 | K10: =S97 -> 1184916.7 | L10: =S109 -> 416322.09 | M10: =S121 -> -3.7970021e-09 | N10: =S133 -> -3.7970021e-09 | O10: =S145 -> -3.7970021e-09 | P10: =S157 -> -3.7970021e-09 | Q10: =S169 -> -3.7970021e-09 | R10: =S181 -> -3.7970021e-09 | S10: =S193 -> -3.7970021e-09
F12: 返済回数 | M12: 元本均等返済方式
D13: 借入額 | E13: 金利（年利 | F13: 月数換算で | G13: 年数換算で | M13: 年次 | N13: 月 | O13: 金利支払額 | P13: 元本返済額 | Q13: 残存元本額 | R13: 支払い合計 | S13: 金利支払額 | T13: 元本返済額 | U13: 合計
D14: =初期条件!$F$16 -> 2.2773174e+08 | E14: =初期条件!$D$87 -> 0.027 | F14: =初期条件!$D$88*12 -> 96 | G14: =初期条件!$D$88 -> 8 | M14: 1 | N14: 1 | O14: =O4*$P$4/12 -> 512396.42 | P14: =IF($N14>$Q$4,0,$O$4/$Q$4) -> 2372205.6 | Q14: =O4-P14 -> 2.2535954e+08 | R14: =O14+P14 -> 2884602.1
N15: 2 | O15: =Q14*$P$4/12 -> 507058.96 | P15: =IF($N15>$Q$4,0,$O$4/$Q$4) -> 2372205.6 | Q15: =Q14-P15 -> 2.2298733e+08 | R15: =O15+P15 -> 2879264.6
D16: 元利均等返済方式 | F16: 返済額 | I16: 年間返済額 | N16: 3 | O16: =Q15*$P$4/12 -> 501721.49 | P16: =IF($N16>$Q$4,0,$O$4/$Q$4) -> 2372205.6 | Q16: =Q15-P16 -> 2.2061513e+08 | R16: =O16+P16 -> 2873927.1
D17: 年次 | E17: 月 | F17: 金利支払額 | G17: 元本返済額 | H17: 合計 | I17: 金利支払額 | J17: 元本返済額 | K17: 合計 | N17: 4 | O17: =Q16*$P$4/12 -> 496384.03 | P17: =IF($N17>$Q$4,0,$O$4/$Q$4) -> 2372205.6 | Q17: =Q16-P17 -> 2.1824292e+08 | R17: =O17+P17 -> 2868589.7
D18: 1 | E18: 1 | F18: =IF($E18>$H$4,0,-IPMT($G$4/12,$E18,$H$4,$F$4,0)) -> 512396.42 | G18: =IF($E18>$H$4,0,-PPMT($G$4/12,$E18,$H$4,$F$4,0)) -> 2127880.8 | H18: =F18+G18 -> 2640277.2 | N18: 5 | O18: =Q17*$P$4/12 -> 491046.57 | P18: =IF($N18>$Q$4,0,$O$4/$Q$4) -> 2372205.6 | Q18: =Q17-P18 -> 2.1587071e+08 | R18: =O18+P18 -> 2863252.2
E19: 2 | F19: =IF($E19>$H$4,0,-IPMT($G$4/12,$E19,$H$4,$F$4,0)) -> 507608.69 | G19: =IF($E19>$H$4,0,-PPMT($G$4/12,$E19,$H$4,$F$4,0)) -> 2132668.5 | H19: =F19+G19 -> 2640277.2 | N19: 6 | O19: =Q18*$P$4/12 -> 485709.11 | P19: =IF($N19>$Q$4,0,$O$4/$Q$4) -> 2372205.6 | Q19: =Q18-P19 -> 2.1349851e+08 | R19: =O19+P19 -> 2857914.8
E20: 3 | F20: =IF($E20>$H$4,0,-IPMT($G$4/12,$E20,$H$4,$F$4,0)) -> 502810.18 | G20: =IF($E20>$H$4,0,-PPMT($G$4/12,$E20,$H$4,$F$4,0)) -> 2137467 | H20: =F20+G20 -> 2640277.2 | N20: 7 | O20: =Q19*$P$4/12 -> 480371.64 | P20: =IF($N20>$Q$4,0,$O$4/$Q$4) -> 2372205.6 | Q20: =Q19-P20 -> 2.111263e+08 | R20: =O20+P20 -> 2852577.3
E21: 4 | F21: =IF($E21>$H$4,0,-IPMT($G$4/12,$E21,$H$4,$F$4,0)) -> 498000.88 | G21: =IF($E21>$H$4,0,-PPMT($G$4/12,$E21,$H$4,$F$4,0)) -> 2142276.3 | H21: =F21+G21 -> 2640277.2 | N21: 8 | O21: =Q20*$P$4/12 -> 475034.18 | P21: =IF($N21>$Q$4,0,$O$4/$Q$4) -> 2372205.6 | Q21: =Q20-P21 -> 2.087541e+08 | R21: =O21+P21 -> 2847239.8
E22: 5 | F22: =IF($E22>$H$4,0,-IPMT($G$4/12,$E22,$H$4,$F$4,0)) -> 493180.76 | G22: =IF($E22>$H$4,0,-PPMT($G$4/12,$E22,$H$4,$F$4,0)) -> 2147096.5 | H22: =F22+G22 -> 2640277.2 | N22: 9 | O22: =Q21*$P$4/12 -> 469696.72 | P22: =IF($N22>$Q$4,0,$O$4/$Q$4) -> 2372205.6 | Q22: =Q21-P22 -> 2.0638189e+08 | R22: =O22+P22 -> 2841902.4
E23: 6 | F23: =IF($E23>$H$4,0,-IPMT($G$4/12,$E23,$H$4,$F$4,0)) -> 488349.79 | G23: =IF($E23>$H$4,0,-PPMT($G$4/12,$E23,$H$4,$F$4,0)) -> 2151927.4 | H23: =F23+G23 -> 2640277.2 | N23: 10 | O23: =Q22*$P$4/12 -> 464359.26 | P23: =IF($N23>$Q$4,0,$O$4/$Q$4) -> 2372205.6 | Q23: =Q22-P23 -> 2.0400969e+08 | R23: =O23+P23 -> 2836564.9
E24: 7 | F24: =IF($E24>$H$4,0,-IPMT($G$4/12,$E24,$H$4,$F$4,0)) -> 483507.96 | G24: =IF($E24>$H$4,0,-PPMT($G$4/12,$E24,$H$4,$F$4,0)) -> 2156769.3 | H24: =F24+G24 -> 2640277.2 | N24: 11 | O24: =Q23*$P$4/12 -> 459021.79 | P24: =IF($N24>$Q$4,0,$O$4/$Q$4) -> 2372205.6 | Q24: =Q23-P24 -> 2.0163748e+08 | R24: =O24+P24 -> 2831227.4
E25: 8 | F25: =IF($E25>$H$4,0,-IPMT($G$4/12,$E25,$H$4,$F$4,0)) -> 478655.23 | G25: =IF($E25>$H$4,0,-PPMT($G$4/12,$E25,$H$4,$F$4,0)) -> 2161622 | H25: =F25+G25 -> 2640277.2 | N25: 12 | O25: =Q24*$P$4/12 -> 453684.33 | P25: =IF($N25>$Q$4,0,$O$4/$Q$4) -> 2372205.6 | Q25: =Q24-P25 -> 1.9926527e+08 | R25: =O25+P25 -> 2825890 | S25: =SUM(O14:O25) -> 5796484.5 | T25: =SUM(P14:P25) -> 28466468 | U25: =S25+T25 -> 34262952
E26: 9 | F26: =IF($E26>$H$4,0,-IPMT($G$4/12,$E26,$H$4,$F$4,0)) -> 473791.58 | G26: =IF($E26>$H$4,0,-PPMT($G$4/12,$E26,$H$4,$F$4,0)) -> 2166485.6 | H26: =F26+G26 -> 2640277.2 | M26: 2 | N26: 13 | O26: =Q25*$P$4/12 -> 448346.87 | P26: =IF($N26>$Q$4,0,$O$4/$Q$4) -> 2372205.6 | Q26: =Q25-P26 -> 1.9689307e+08 | R26: =O26+P26 -> 2820552.5
E27: 10 | F27: =IF($E27>$H$4,0,-IPMT($G$4/12,$E27,$H$4,$F$4,0)) -> 468916.98 | G27: =IF($E27>$H$4,0,-PPMT($G$4/12,$E27,$H$4,$F$4,0)) -> 2171360.2 | H27: =F27+G27 -> 2640277.2 | N27: 14 | O27: =Q26*$P$4/12 -> 443009.4 | P27: =IF($N27>$Q$4,0,$O$4/$Q$4) -> 2372205.6 | Q27: =Q26-P27 -> 1.9452086e+08 | R27: =O27+P27 -> 2815215.1
E28: 11 | F28: =IF($E28>$H$4,0,-IPMT($G$4/12,$E28,$H$4,$F$4,0)) -> 464031.42 | G28: =IF($E28>$H$4,0,-PPMT($G$4/12,$E28,$H$4,$F$4,0)) -> 2176245.8 | H28: =F28+G28 -> 2640277.2 | N28: 15 | O28: =Q27*$P$4/12 -> 437671.94 | P28: =IF($N28>$Q$4,0,$O$4/$Q$4) -> 2372205.6 | Q28: =Q27-P28 -> 1.9214866e+08 | R28: =O28+P28 -> 2809877.6
E29: 12 | F29: =IF($E29>$H$4,0,-IPMT($G$4/12,$E29,$H$4,$F$4,0)) -> 459134.87 | G29: =IF($E29>$H$4,0,-PPMT($G$4/12,$E29,$H$4,$F$4,0)) -> 2181142.4 | H29: =F29+G29 -> 2640277.2 | I29: =SUM(F18:F29) -> 5830384.8 | J29: =SUM(G18:G29) -> 25852942 | K29: =I29+J29 -> 31683327 | N29: 16 | O29: =Q28*$P$4/12 -> 432334.48 | P29: =IF($N29>$Q$4,0,$O$4/$Q$4) -> 2372205.6 | Q29: =Q28-P29 -> 1.8977645e+08 | R29: =O29+P29 -> 2804540.1
D30: 2 | E30: 13 | F30: =IF($E30>$H$4,0,-IPMT($G$4/12,$E30,$H$4,$F$4,0)) -> 454227.3 | G30: =IF($E30>$H$4,0,-PPMT($G$4/12,$E30,$H$4,$F$4,0)) -> 2186049.9 | H30: =F30+G30 -> 2640277.2 | N30: 17 | O30: =Q29*$P$4/12 -> 426997.02 | P30: =IF($N30>$Q$4,0,$O$4/$Q$4) -> 2372205.6 | Q30: =Q29-P30 -> 1.8740425e+08 | R30: =O30+P30 -> 2799202.7
E31: 14 | F31: =IF($E31>$H$4,0,-IPMT($G$4/12,$E31,$H$4,$F$4,0)) -> 449308.69 | G31: =IF($E31>$H$4,0,-PPMT($G$4/12,$E31,$H$4,$F$4,0)) -> 2190968.5 | H31: =F31+G31 -> 2640277.2 | N31: 18 | O31: =Q30*$P$4/12 -> 421659.55 | P31: =IF($N31>$Q$4,0,$O$4/$Q$4) -> 2372205.6 | Q31: =Q30-P31 -> 1.8503204e+08 | R31: =O31+P31 -> 2793865.2
E32: 15 | F32: =IF($E32>$H$4,0,-IPMT($G$4/12,$E32,$H$4,$F$4,0)) -> 444379.01 | G32: =IF($E32>$H$4,0,-PPMT($G$4/12,$E32,$H$4,$F$4,0)) -> 2195898.2 | H32: =F32+G32 -> 2640277.2 | N32: 19 | O32: =Q31*$P$4/12 -> 416322.09 | P32: =IF($N32>$Q$4,0,$O$4/$Q$4) -> 2372205.6 | Q32: =Q31-P32 -> 1.8265983e+08 | R32: =O32+P32 -> 2788527.7
E33: 16 | F33: =IF($E33>$H$4,0,-IPMT($G$4/12,$E33,$H$4,$F$4,0)) -> 439438.24 | G33: =IF($E33>$H$4,0,-PPMT($G$4/12,$E33,$H$4,$F$4,0)) -> 2200839 | H33: =F33+G33 -> 2640277.2 | N33: 20 | O33: =Q32*$P$4/12 -> 410984.63 | P33: =IF($N33>$Q$4,0,$O$4/$Q$4) -> 2372205.6 | Q33: =Q32-P33 -> 1.8028763e+08 | R33: =O33+P33 -> 2783190.3
E34: 17 | F34: =IF($E34>$H$4,0,-IPMT($G$4/12,$E34,$H$4,$F$4,0)) -> 434486.35 | G34: =IF($E34>$H$4,0,-PPMT($G$4/12,$E34,$H$4,$F$4,0)) -> 2205790.9 | H34: =F34+G34 -> 2640277.2 | N34: 21 | O34: =Q33*$P$4/12 -> 405647.17 | P34: =IF($N34>$Q$4,0,$O$4/$Q$4) -> 2372205.6 | Q34: =Q33-P34 -> 1.7791542e+08 | R34: =O34+P34 -> 2777852.8
E35: 18 | F35: =IF($E35>$H$4,0,-IPMT($G$4/12,$E35,$H$4,$F$4,0)) -> 429523.32 | G35: =IF($E35>$H$4,0,-PPMT($G$4/12,$E35,$H$4,$F$4,0)) -> 2210753.9 | H35: =F35+G35 -> 2640277.2 | N35: 22 | O35: =Q34*$P$4/12 -> 400309.7 | P35: =IF($N35>$Q$4,0,$O$4/$Q$4) -> 2372205.6 | Q35: =Q34-P35 -> 1.7554322e+08 | R35: =O35+P35 -> 2772515.4
E36: 19 | F36: =IF($E36>$H$4,0,-IPMT($G$4/12,$E36,$H$4,$F$4,0)) -> 424549.12 | G36: =IF($E36>$H$4,0,-PPMT($G$4/12,$E36,$H$4,$F$4,0)) -> 2215728.1 | H36: =F36+G36 -> 2640277.2 | N36: 23 | O36: =Q35*$P$4/12 -> 394972.24 | P36: =IF($N36>$Q$4,0,$O$4/$Q$4) -> 2372205.6 | Q36: =Q35-P36 -> 1.7317101e+08 | R36: =O36+P36 -> 2767177.9
E37: 20 | F37: =IF($E37>$H$4,0,-IPMT($G$4/12,$E37,$H$4,$F$4,0)) -> 419563.74 | G37: =IF($E37>$H$4,0,-PPMT($G$4/12,$E37,$H$4,$F$4,0)) -> 2220713.5 | H37: =F37+G37 -> 2640277.2 | N37: 24 | O37: =Q36*$P$4/12 -> 389634.78 | P37: =IF($N37>$Q$4,0,$O$4/$Q$4) -> 2372205.6 | Q37: =Q36-P37 -> 1.7079881e+08 | R37: =O37+P37 -> 2761840.4 | S37: =SUM(O26:O37) -> 5027889.9 | T37: =SUM(P26:P37) -> 28466468 | U37: =S37+T37 -> 33494358
E38: 21 | F38: =IF($E38>$H$4,0,-IPMT($G$4/12,$E38,$H$4,$F$4,0)) -> 414567.13 | G38: =IF($E38>$H$4,0,-PPMT($G$4/12,$E38,$H$4,$F$4,0)) -> 2225710.1 | H38: =F38+G38 -> 2640277.2 | M38: 3 | N38: 25 | O38: =Q37*$P$4/12 -> 384297.31 | P38: =IF($N38>$Q$4,0,$O$4/$Q$4) -> 2372205.6 | Q38: =Q37-P38 -> 1.684266e+08 | R38: =O38+P38 -> 2756503
E39: 22 | F39: =IF($E39>$H$4,0,-IPMT($G$4/12,$E39,$H$4,$F$4,0)) -> 409559.28 | G39: =IF($E39>$H$4,0,-PPMT($G$4/12,$E39,$H$4,$F$4,0)) -> 2230717.9 | H39: =F39+G39 -> 2640277.2 | N39: 26 | O39: =Q38*$P$4/12 -> 378959.85 | P39: =IF($N39>$Q$4,0,$O$4/$Q$4) -> 2372205.6 | Q39: =Q38-P39 -> 1.660544e+08 | R39: =O39+P39 -> 2751165.5
E40: 23 | F40: =IF($E40>$H$4,0,-IPMT($G$4/12,$E40,$H$4,$F$4,0)) -> 404540.17 | G40: =IF($E40>$H$4,0,-PPMT($G$4/12,$E40,$H$4,$F$4,0)) -> 2235737.1 | H40: =F40+G40 -> 2640277.2 | N40: 27 | O40: =Q39*$P$4/12 -> 373622.39 | P40: =IF($N40>$Q$4,0,$O$4/$Q$4) -> 2372205.6 | Q40: =Q39-P40 -> 1.6368219e+08 | R40: =O40+P40 -> 2745828
E41: 24 | F41: =IF($E41>$H$4,0,-IPMT($G$4/12,$E41,$H$4,$F$4,0)) -> 399509.76 | G41: =IF($E41>$H$4,0,-PPMT($G$4/12,$E41,$H$4,$F$4,0)) -> 2240767.5 | H41: =F41+G41 -> 2640277.2 | I41: =SUM(F30:F41) -> 5123652.1 | J41: =SUM(G30:G41) -> 26559675 | K41: =I41+J41 -> 31683327 | N41: 28 | O41: =Q40*$P$4/12 -> 368284.93 | P41: =IF($N41>$Q$4,0,$O$4/$Q$4) -> 2372205.6 | Q41: =Q40-P41 -> 1.6130998e+08 | R41: =O41+P41 -> 2740490.6
D42: 3 | E42: 25 | F42: =IF($E42>$H$4,0,-IPMT($G$4/12,$E42,$H$4,$F$4,0)) -> 394468.03 | G42: =IF($E42>$H$4,0,-PPMT($G$4/12,$E42,$H$4,$F$4,0)) -> 2245809.2 | H42: =F42+G42 -> 2640277.2 | N42: 29 | O42: =Q41*$P$4/12 -> 362947.46 | P42: =IF($N42>$Q$4,0,$O$4/$Q$4) -> 2372205.6 | Q42: =Q41-P42 -> 1.5893778e+08 | R42: =O42+P42 -> 2735153.1
E43: 26 | F43: =IF($E43>$H$4,0,-IPMT($G$4/12,$E43,$H$4,$F$4,0)) -> 389414.96 | G43: =IF($E43>$H$4,0,-PPMT($G$4/12,$E43,$H$4,$F$4,0)) -> 2250862.3 | H43: =F43+G43 -> 2640277.2 | N43: 30 | O43: =Q42*$P$4/12 -> 357610 | P43: =IF($N43>$Q$4,0,$O$4/$Q$4) -> 2372205.6 | Q43: =Q42-P43 -> 1.5656557e+08 | R43: =O43+P43 -> 2729815.6
...

Sheet 償却資産税の計算
B3: 固定資産税額の計算方法について
B4: 評価額の計算式 | C4: 評価額
B5: 前年中に取得した資産 | C5: 取得価額 × （１― 減価率／２ ）
B6: 前年前に取得した資産 | C6: 前年度評価額 × （１― 減価率 ）
B7: 税額の計算式 | C7: ＝課税標準額（1000円未満切り捨て）ｘ税率（1.4/100）
B8: 計算例 1000万円で取得したＰＶ設備の場合
B9: ｋｗ規模 | C9: =初期条件!D12 -> 2002
B10: ｋｗ単価 | C10: =初期条件!F64/初期条件!D12 -> 162503.03
B11: 取得額 | C11: =初期条件!F36+初期条件!F44+初期条件!F56 -> 3.2533106e+08
B12: 太陽光発電所の耐用年数 | C12: １７年
B13: 減価率 *2 | C13: 0.127 | E13: 課税標準の軽減＝2/3に軽減無くなる。 *1 | F13: 税率
E14: 1 | F14: 0.014
E15: 1 | F15: 0.014
B16: *1：課税標準の軽減＝2/3に軽減とは： | C16: 上記の軽減は最初の３年間の課税標準を2/3に軽減するものだがＨ28年で廃止。
B18: *2 2007年に国税当局による減価償却方法の変更があり、それによって定率法の償却率が0.127から0.147に変更となった。
B19: しかし、この変更後も固定資産税（地方税）の計算に適用される償却率の変更は行われていない。詳細は http://www.kanchu.or.jp/sinkoku/syoukyakunew.htm を参照されたい。
J20: 0 | K20: 1 | L20: 2 | M20: 3 | N20: 4 | O20: 5 | P20: 6 | Q20: 7 | R20: 8 | S20: 9 | T20: 10 | U20: 11 | V20: 12 | W20: 13 | X20: 14 | Y20: 15 | Z20: 16 | AA20: 17 | AB20: 18 | AC20: 19 | AD20: 20 | AE20: 21 | AF20: 22 | AG20: 23 | AH20: 24 | AI20: 25
B21: =C9 -> 2002 | C21: 太陽光発電設備購入者が申告し支払うべき発電設備に賦課される償却資産税額 | J21: =G23 -> 4263138.2 | K21: =G24 -> 3721719.6 | L21: =G25 -> 3249061.3 | M21: =G26 -> 2836430.5 | N21: =G27 -> 2476203.8 | O21: =G28 -> 2161725.9 | P21: =G29 -> 1887186.7 | Q21: =G30 -> 1647514 | R21: =G31 -> 1438279.7 | S21: =G32 -> 1255618.2 | T21: =G33 -> 1096154.7 | U21: =G34 -> 956943.05 | V21: =G35 -> 835411.28 | W21: =G36 -> 729314.05 | X21: =G37 -> 636691.16 | Y21: =G38 -> 555831.39 | Z21: =G39 -> 485240.8 | AA21: =G40 -> 423615.22 | AB21: =G41 -> 369816.09 | AC21: =G42 -> 322849.44 | AD21: =G43 -> 281847.56 | AE21: =G44 -> 246052.92 | AF21: =G45 -> 227731.74 | AG21: =G46 -> 227731.74 | AH21: =G47 -> 227731.74 | AI21: =#REF! -> #REF!
B22: 年次 | C22: 償却資産税評価額 | D22: 課税標準の軽減＝最初の3年間を2/3に軽減*1 | E22: 軽減後の課税標準 | F22: 税率 | G22: 償却資産税額 | H22: =B22 -> 年次
B23: 1 | C23: =IF(C11<=$C$11*0.05,$C$11*0.05,C11*0.936) -> 3.0450987e+08 | D23: =E14 -> 1 | E23: =C23*D23 -> 3.0450987e+08 | F23: 0.014 | G23: =E23*F23 -> 4263138.2 | H23: =B23 -> 1
B24: 2 | C24: =IF(C23*(1-$C$13)<=$C$11*0.05,$C$11*0.05,C23*(1-$C$13)) -> 2.6583712e+08 | D24: =D23 -> 1 | E24: =C24*D24 -> 2.6583712e+08 | F24: =F23 -> 0.014 | G24: =E24*F24 -> 3721719.6 | H24: =B24 -> 2
B25: 3 | C25: =IF(C24*(1-$C$13)<=$C$11*0.05,$C$11*0.05,C24*(1-$C$13)) -> 2.320758e+08 | D25: =D24 -> 1 | E25: =C25*D25 -> 2.320758e+08 | F25: =F24 -> 0.014 | G25: =E25*F25 -> 3249061.3 | H25: =B25 -> 3
B26: 4 | C26: =IF(C25*(1-$C$13)<=$C$11*0.05,$C$11*0.05,C25*(1-$C$13)) -> 2.0260218e+08 | D26: 1 | E26: =C26*D26 -> 2.0260218e+08 | F26: =F25 -> 0.014 | G26: =E26*F26 -> 2836430.5 | H26: =B26 -> 4
B27: 5 | C27: =IF(C26*(1-$C$13)<=$C$11*0.05,$C$11*0.05,C26*(1-$C$13)) -> 1.768717e+08 | D27: =D26 -> 1 | E27: =C27*D27 -> 1.768717e+08 | F27: =F26 -> 0.014 | G27: =E27*F27 -> 2476203.8 | H27: =B27 -> 5
B28: 6 | C28: =IF(C27*(1-$C$13)<=$C$11*0.05,$C$11*0.05,C27*(1-$C$13)) -> 1.5440899e+08 | D28: =D27 -> 1 | E28: =C28*D28 -> 1.5440899e+08 | F28: =F27 -> 0.014 | G28: =E28*F28 -> 2161725.9 | H28: =B28 -> 6
B29: 7 | C29: =IF(C28*(1-$C$13)<=$C$11*0.05,$C$11*0.05,C28*(1-$C$13)) -> 1.3479905e+08 | D29: =D28 -> 1 | E29: =C29*D29 -> 1.3479905e+08 | F29: =F28 -> 0.014 | G29: =E29*F29 -> 1887186.7 | H29: =B29 -> 7
B30: 8 | C30: =IF(C29*(1-$C$13)<=$C$11*0.05,$C$11*0.05,C29*(1-$C$13)) -> 1.1767957e+08 | D30: =D29 -> 1 | E30: =C30*D30 -> 1.1767957e+08 | F30: =F29 -> 0.014 | G30: =E30*F30 -> 1647514 | H30: =B30 -> 8
B31: 9 | C31: =IF(C30*(1-$C$13)<=$C$11*0.05,$C$11*0.05,C30*(1-$C$13)) -> 1.0273427e+08 | D31: =D30 -> 1 | E31: =C31*D31 -> 1.0273427e+08 | F31: =F30 -> 0.014 | G31: =E31*F31 -> 1438279.7 | H31: =B31 -> 9
B32: 10 | C32: =IF(C31*(1-$C$13)<=$C$11*0.05,$C$11*0.05,C31*(1-$C$13)) -> 89687015 | D32: =D31 -> 1 | E32: =C32*D32 -> 89687015 | F32: =F31 -> 0.014 | G32: =E32*F32 -> 1255618.2 | H32: =B32 -> 10
B33: 11 | C33: =IF(C32*(1-$C$13)<=$C$11*0.05,$C$11*0.05,C32*(1-$C$13)) -> 78296764 | D33: =D32 -> 1 | E33: =C33*D33 -> 78296764 | F33: =F32 -> 0.014 | G33: =E33*F33 -> 1096154.7 | H33: =B33 -> 11
B34: 12 | C34: =IF(C33*(1-$C$13)<=$C$11*0.05,$C$11*0.05,C33*(1-$C$13)) -> 68353075 | D34: =D33 -> 1 | E34: =C34*D34 -> 68353075 | F34: =F33 -> 0.014 | G34: =E34*F34 -> 956943.05 | H34: =B34 -> 12
B35: 13 | C35: =IF(C34*(1-$C$13)<=$C$11*0.05,$C$11*0.05,C34*(1-$C$13)) -> 59672234 | D35: =D34 -> 1 | E35: =C35*D35 -> 59672234 | F35: =F34 -> 0.014 | G35: =E35*F35 -> 835411.28 | H35: =B35 -> 13
B36: 14 | C36: =IF(C35*(1-$C$13)<=$C$11*0.05,$C$11*0.05,C35*(1-$C$13)) -> 52093861 | D36: =D35 -> 1 | E36: =C36*D36 -> 52093861 | F36: =F35 -> 0.014 | G36: =E36*F36 -> 729314.05 | H36: =B36 -> 14
B37: 15 | C37: =IF(C36*(1-$C$13)<=$C$11*0.05,$C$11*0.05,C36*(1-$C$13)) -> 45477940 | D37: =D36 -> 1 | E37: =C37*D37 -> 45477940 | F37: =F36 -> 0.014 | G37: =E37*F37 -> 636691.16 | H37: =B37 -> 15
B38: 16 | C38: =IF(C37*(1-$C$13)<=$C$11*0.05,$C$11*0.05,C37*(1-$C$13)) -> 39702242 | D38: =D37 -> 1 | E38: =C38*D38 -> 39702242 | F38: =F37 -> 0.014 | G38: =E38*F38 -> 555831.39 | H38: =B38 -> 16
... B47: 25 | C47: =IF(C46*(1-$C$13)<=$C$11*0.05,$C$11*0.05,C46*(1-$C$13)) -> 16266553 | D47: =D46 -> 1 | E47: =C47*D47 -> 16266553 | F47: =F46 -> 0.014 | G47: =E47*F47 -> 227731.74 | H47: =B47 -> 25
F48: 20年間合計 | G48: =SUM(G23:G42) -> 31348745
F49: 平均 | G49: =G48/20 -> 1567437.3
